BEGIN:VCALENDAR
VERSION:2.0
PRODID:-//ChamberMaster//Event Calendar 2.0//EN
METHOD:PUBLISH
X-PUBLISHED-TTL:P1H
REFRESH-INTERVAL:P1H
CALSCALE:GREGORIAN
BEGIN:VTIMEZONE
TZID:America/Denver
BEGIN:DAYLIGHT
RRULE:FREQ=YEARLY;BYMONTH=3;BYDAY=2SU
DTSTART:20070101T000000
TZOFFSETFROM:-0700
TZOFFSETTO:-0600
TZNAME:Mountain Daylight Time
END:DAYLIGHT
BEGIN:STANDARD
RRULE:FREQ=YEARLY;BYMONTH=11;BYDAY=1SU
DTSTART:20070101T000000
TZOFFSETFROM:-0600
TZOFFSETTO:-0700
TZNAME:Mountain Standard Time
END:STANDARD
END:VTIMEZONE
BEGIN:VEVENT
DTSTART;TZID=America/Denver:20260703T180000
DTEND;TZID=America/Denver:20260703T210000
X-MICROSOFT-CDO-ALLDAYEVENT:FALSE
SUMMARY:Cowboys Forever Foundation Rodeo Series | Stars\, Stripes & Rodeo
DESCRIPTION:Saddle up and start the Independence Day holiday weekend off in a big way at Cowboys Forever Rodeo in Eagle on July 3. Get ready for a night of big rodeo energy\, western tradition\, trick riders\, and family fun under the Colorado sky. The evening will be packed with excitement\, from bronc riding and barrel racing to crowd-favorite events like mutton bustin' and calf scramble. It's the perfect way to celebrate the holiday weekend with hometown pride\, western spirit\, and summer fun for all ages.Come hungry   food will be available for purchase from The Cowboy's Kitchen\, Mountain Grillin\, and The Full Belly BBQ.Throughout the 2026 rodeo season\, Cowboys Forever Foundation will honor and remember those we have lost to suicide. Please follow the link below if you would like your loved one to be included in this special tribute.Submission FormWe tip our hats to the generous sponsors who help keep western heritage alive and make Cowboys Forever Foundation Rodeo series possible.6:00pm: Gates Open | Slack startsSign-ups open at 6:00pm for Mutton Bustin' & Calf Scramble 7:30pm: Grand Entry begins
X-ALT-DESC;FMTTYPE=text/html:<!DOCTYPE html><html><head><title></title></head><body aria-disabled="false"><p><strong data-end="79" data-start="66" fr-original-style="" style="font-weight: 700\;"><span style="font-family: Tahoma\, Geneva\, sans-serif\; font-size: 14px\;">Saddle up</span></strong><span style="font-family: Tahoma\, Geneva\, sans-serif\; font-size: 14px\;">&nbsp\;and start the <strong data-end="130" data-start="94" fr-original-style="" style="font-weight: 700\;">Independence Day holiday weekend</strong> off in a big way at <strong data-end="185" data-start="151" fr-original-style="" style="font-weight: 700\;">Cowboys Forever Rodeo in Eagle</strong> on <strong data-end="199" data-start="189" fr-original-style="" style="font-weight: 700\;">July 3</strong>. Get ready for a night of <strong data-end="246" data-start="226" fr-original-style="" style="font-weight: 700\;">big rodeo energy</strong>\, <strong data-end="269" data-is-only-node="" data-start="248" fr-original-style="" style="font-weight: 700\;">western tradition</strong>\, <strong data-end="287" data-start="271" fr-original-style="" style="font-weight: 700\;">trick riders</strong>\, and <strong data-end="307" data-start="293" fr-original-style="" style="font-weight: 700\;">family fun</strong> under the Colorado sky. The evening will be packed with excitement\, from <strong data-end="463" data-start="447" fr-original-style="" style="font-weight: 700\;">bronc riding</strong> and <strong data-end="485" data-start="468" fr-original-style="" style="font-weight: 700\;">barrel racing</strong> to crowd-favorite events like <strong data-end="534" data-start="516" fr-original-style="" style="font-weight: 700\;">mutton bustin&rsquo\;</strong> and <strong data-end="556" data-start="539" fr-original-style="" style="font-weight: 700\;">calf scramble</strong>. It&rsquo\;s the perfect way to celebrate the holiday weekend with <strong data-end="635" data-start="617" fr-original-style="" style="font-weight: 700\;">hometown pride</strong>\, <strong data-end="655" data-start="637" fr-original-style="" style="font-weight: 700\;">western spirit</strong>\, and <strong data-end="688" data-start="661" fr-original-style="" style="font-weight: 700\;">summer fun for all ages</strong>.</span></p><p><span style="box-sizing: border-box\; font-family: Tahoma\, Geneva\, sans-serif\; font-size: 12px\;">Come hungry &mdash\; food will be available for purchase from The Cowboy&rsquo\;s Kitchen\, Mountain Grillin\, and&nbsp\;</span><span style="font-family: Tahoma\,Geneva\,sans-serif\;"><a fr-original-class="fr-green" fr-original-style="text-decoration: none\; color: rgb(242\, 94\, 68)\; box-sizing: border-box\; background-color: transparent\; user-select: auto\;" href="https://thefullbellybbq.squarespace.com/" rel="noopener noreferrer" style="text-decoration: none\; color: rgb(242\, 94\, 68)\; box-sizing: border-box\; background-color: transparent\; user-select: auto\;" target="_blank"><strong fr-original-style="box-sizing: border-box\; font-weight: 700\;" style="box-sizing: border-box\; font-weight: 700\;"><span style="box-sizing: border-box\; font-size: 12px\;">The Full Belly BBQ</span></strong></a></span><span style="box-sizing: border-box\; font-family: Tahoma\, Geneva\, sans-serif\; font-size: 12px\;">.</span></p><hr fr-original-style="" style="clear: both\; user-select: none\; break-after: page\;"><p style="text-align: center\;"><span style="box-sizing: border-box\; font-family: Tahoma\, Geneva\, sans-serif\; font-size: 14px\;"><em style="box-sizing: border-box\;">Throughout the 2026 rodeo season\, Cowboys Forever Foundation will honor and remember those we have lost to suicide. Please follow the link below if you would like your loved one to be included in this special tribute.</em></span><span style="font-family: Tahoma\,Geneva\,sans-serif\;"><span style="box-sizing: border-box\; color: rgb(41\, 105\, 176)\;"><a href="https://docs.google.com/forms/d/e/1FAIpQLScJuezTinJUijyEb_PMDp9QgUqy3Mmyge85BcgwtawgBGtOsA/viewform?fbclid=IwAR09jSwTVGFZv64VhZqniiIHXZmywnqO8TqqT8XxuL_2-bd8EJkGML3zKJM" rel="noopener noreferrer" target="_blank" style="text-decoration: none\; color: inherit\; box-sizing: border-box\; background-color: transparent\; user-select: auto\;" fr-original-style="text-decoration: none\; color: inherit\; box-sizing: border-box\; background-color: transparent\; user-select: auto\;"></a><a href="https://docs.google.com/forms/d/e/1FAIpQLScJuezTinJUijyEb_PMDp9QgUqy3Mmyge85BcgwtawgBGtOsA/viewform?fbclid=IwAR09jSwTVGFZv64VhZqniiIHXZmywnqO8TqqT8XxuL_2-bd8EJkGML3zKJM" rel="noopener noreferrer" style="text-decoration: none\; color: inherit\; box-sizing: border-box\; background-color: transparent\; user-select: auto\;" target="_blank" fr-original-style="text-decoration: none\; color: inherit\; box-sizing: border-box\; background-color: transparent\; user-select: auto\;"></a></span></span></p><p style="text-align: center\;"><span style="font-family: Tahoma\,Geneva\,sans-serif\;"><span style="box-sizing: border-box\; color: rgb(41\, 105\, 176)\;"><a fr-original-class="fr-strong" fr-original-style="text-decoration: none\; color: inherit\; box-sizing: border-box\; background-color: transparent\; user-select: auto\;" href="https://docs.google.com/forms/d/e/1FAIpQLScJuezTinJUijyEb_PMDp9QgUqy3Mmyge85BcgwtawgBGtOsA/viewform?fbclid=IwAR09jSwTVGFZv64VhZqniiIHXZmywnqO8TqqT8XxuL_2-bd8EJkGML3zKJM" rel="noopener noreferrer" style="text-decoration: none\; color: inherit\; box-sizing: border-box\; background-color: transparent\; user-select: auto\; font-weight: 700\;" target="_blank"><span style="box-sizing: border-box\; font-size: 14px\;"><u style="box-sizing: border-box\;">Submission Form</u></span></a></span></span></p><hr fr-original-style="" style="clear: both\; user-select: none\; break-after: page\;"><p style="text-align: center\;"><span style="box-sizing: border-box\; font-family: Verdana\, Geneva\, sans-serif\; font-size: 12px\;">We tip our hats to the generous <a fr-original-style="text-decoration: none\; color: rgb(242\, 94\, 68)\; box-sizing: border-box\; background-color: transparent\; user-select: auto\;" href="https://www.cowboysforeverfoundation.org/2026-sponsors" rel="noopener noreferrer" style="text-decoration: none\; color: rgb(242\, 94\, 68)\; box-sizing: border-box\; background-color: transparent\; user-select: auto\;" target="_blank"><u style="box-sizing: border-box\;">sponsors</u></a> who help keep western heritage alive and make Cowboys Forever Foundation Rodeo series possible.</span></p><hr fr-original-style="" style="clear: both\; user-select: none\; break-after: page\;"><p style="text-align: center\;"><span style="font-family: Tahoma\, Geneva\, sans-serif\; font-size: 12px\;">6:00pm: Gates Open | Slack starts</span></p><p style="margin-left: 20px\; text-align: center\;"><span style="font-size: 12px\;"><span style="font-family: Tahoma\,Geneva\,sans-serif\;">Sign-ups open at 6:00pm for Mutton Bustin&rsquo\; &amp\; Calf Scramble&nbsp\;</span></span></p><p style="text-align: center\;"><span style="font-family: Tahoma\, Geneva\, sans-serif\; font-size: 12px\;">7:30pm: Grand Entry begins</span></p></body></html>
LOCATION:426 Fairgrounds Rd Eagle CO 81631
UID:e.3411.1444107
SEQUENCE:3
DTSTAMP:20260421T083422Z
URL:https://members.vailvalleypartnership.com/communitycalendar/Details/cowboys-forever-foundation-rodeo-series-stars-stripes-rodeo-1710418?sourceTypeId=Hub
END:VEVENT
END:VCALENDAR
